BEGIN:VCALENDAR
METHOD:PUBLISH
VERSION:2.0
PRODID:-//Valentine Party at Scott Senior Center//Calendar//EN

BEGIN:VEVENT
SUMMARY:Thomasville | Valentine Party at Scott Senior Center
DESCRIPTION:
X-ALT-DESC:
UID:Event9032
DTSTART:20260213T153000Z
DTEND:20260213T180000Z
DTSTAMP:20250926T164316Z
LAST-MODIFIED:20250926T164316Z
END:VEVENT

END:VCALENDAR