BEGIN:VCALENDAR
METHOD:PUBLISH
VERSION:2.0
PRODID:-//Lunch at Pebble Hill with GA GRSP Students//Calendar//EN

BEGIN:VEVENT
SUMMARY:Thomasville | Lunch at Pebble Hill with GA GRSP Students
DESCRIPTION:GRSP students will be touring Pebble Hill in the morning and our club will host lunch for them at Pebble Hill Learning Center. Will Watt\, grandson of GRSP Founder\, will spesk during lunch.  Please join us\, engage with students\, host a table\, assist with lunch set up & cleanup. Members also may join the students for their Pebble Hill house tour at 10 am. Sign up for lunch snd tour on this calendars or at meetings.
X-ALT-DESC:<p>GRSP students will be touring Pebble Hill in the morning and our club will host lunch for them at Pebble Hill Learning Center. Will Watt, grandson of GRSP Founder, will spesk during lunch. &nbsp;Please join us, engage with students, host a table, assist with lunch set up &amp; cleanup. Members also may join the students for their Pebble Hill house tour at 10 am. Sign up for lunch snd tour on this calendars or at meetings.</p>
UID:Event8413
DTSTART:20250321T153000Z
DTEND:20250321T170000Z
DTSTAMP:20250305T175827Z
LAST-MODIFIED:20250305T175827Z
END:VEVENT

END:VCALENDAR