BEGIN:VCALENDAR
METHOD:PUBLISH
VERSION:2.0
PRODID:-//Honoring Our Heroes and First Responders//Calendar//EN

BEGIN:VEVENT
SUMMARY:Thomasville | Honoring Our Heroes and First Responders
DESCRIPTION:At Camp Pineywoods – Contact Barbara Williams-Anderson for more details.
X-ALT-DESC:<p>At Camp Pineywoods – Contact&nbsp;<a href="mailto:BAnderson@firstcommercecu.org" target="_blank">Barbara Williams-Anderson</a>&nbsp;for more details.</p>
UID:Event8353
DTSTART:20250225T050000Z
DTEND:20250225T050000Z
DTSTAMP:20250204T185942Z
LAST-MODIFIED:20250204T185942Z
END:VEVENT

END:VCALENDAR